BEGIN:VCALENDAR
VERSION:2.0
PRODID:icalendar-ruby
CALSCALE:GREGORIAN
METHOD:PUBLISH
BEGIN:VEVENT
DTSTAMP:20260421T013159Z
UID:19-462035@millfieldlife.org
DTSTART:20260505T223000Z
DTEND:20260506T000000Z
CLASS:PUBLIC
CREATED:20260420T163916
DESCRIPTION:We are blessed with being able to offer this Ladies Bible Stud
 y in 2026! This is a wonderful opportunity for ladies to join together in 
 fellowship with other christian minded women. \nThe Armor of God Bible st
 udy by Priscilla Shiers began Tuesday\, February 10th with a mingle time o
 f 6:30 p.m. and the study beginning at 7:00 p.m. This study is an eight-se
 ssion bible study being held every other Tuesday in the home of Liz Marsha
 ll\, and is being led by Liz Marshall. It is open to all ladies who find t
 hat a nighttime study works best in their schedule. Books are not required
  to attend the study\, but if you would like one of your own to reference 
 they are available on Amazon. \nPlease feel free to contact Liz if you hav
 e any questions.\n 
LAST-MODIFIED:20260420T163916
LOCATION:
SUMMARY:Women's Bible Study (nighttime)
URL;VALUE=URI:https://www.millfieldlife.org/events/womens-bible-study-night
 time/2026-05-05
ATTACH;FILENAME=Nighttime-Ladies-Bible-Study.png;FMTTYPE=image/png:https://
 dq5pwpg1q8ru0.cloudfront.net/2026/01/05/12/03/54/142df945-f745-4bcd-8bc5-f
 ba51483d58e/Nighttime-Ladies-Bible-Study.png
END:VEVENT
END:VCALENDAR
