BEGIN:VCALENDAR
VERSION:2.0
PRODID:icalendar-ruby
CALSCALE:GREGORIAN
METHOD:PUBLISH
BEGIN:VEVENT
DTSTAMP:20260421T084550Z
UID:23-461650@millfieldlife.org
DTSTART:20260425T130000Z
DTEND:20260425T160000Z
CLASS:PUBLIC
CREATED:20260420T160731
DESCRIPTION:Please plan to come and help us spruce up the church. Any help\
 , for any amount of time is appreciated. More details on particulars will 
 be added soon.
LAST-MODIFIED:20260420T160731
LOCATION:31389 Millfield Road\, Wakefield\, VA 23888
SUMMARY:Church Cleanup Day!
URL;VALUE=URI:https://www.millfieldlife.org/events/church-cleanup-day/2026-
 04-25
ATTACH;FILENAME=Untitled-design-2.png;FMTTYPE=image/png:https://dq5pwpg1q8r
 u0.cloudfront.net/2026/03/29/20/25/17/1b4421a9-60c5-4f1e-afda-6bd85b91293c
 /Untitled-design-2.png
END:VEVENT
END:VCALENDAR
